BEGIN:VCALENDAR
VERSION:2.0
PRODID:-//Helen Hayes Hospital - ECPv6.15.20//NONSGML v1.0//EN
CALSCALE:GREGORIAN
METHOD:PUBLISH
X-ORIGINAL-URL:https://helenhayeshospital.org
X-WR-CALDESC:Events for Helen Hayes Hospital
REFRESH-INTERVAL;VALUE=DURATION:PT1H
X-Robots-Tag:noindex
X-PUBLISHED-TTL:PT1H
BEGIN:VTIMEZONE
TZID:America/New_York
BEGIN:DAYLIGHT
TZOFFSETFROM:-0500
TZOFFSETTO:-0400
TZNAME:EDT
DTSTART:20220313T070000
END:DAYLIGHT
BEGIN:STANDARD
TZOFFSETFROM:-0400
TZOFFSETTO:-0500
TZNAME:EST
DTSTART:20221106T060000
END:STANDARD
BEGIN:DAYLIGHT
TZOFFSETFROM:-0500
TZOFFSETTO:-0400
TZNAME:EDT
DTSTART:20230312T070000
END:DAYLIGHT
BEGIN:STANDARD
TZOFFSETFROM:-0400
TZOFFSETTO:-0500
TZNAME:EST
DTSTART:20231105T060000
END:STANDARD
BEGIN:DAYLIGHT
TZOFFSETFROM:-0500
TZOFFSETTO:-0400
TZNAME:EDT
DTSTART:20240310T070000
END:DAYLIGHT
BEGIN:STANDARD
TZOFFSETFROM:-0400
TZOFFSETTO:-0500
TZNAME:EST
DTSTART:20241103T060000
END:STANDARD
END:VTIMEZONE
BEGIN:VEVENT
DTSTART;TZID=America/New_York:20230215T180000
DTEND;TZID=America/New_York:20230215T200000
DTSTAMP:20260420T055844
CREATED:20221003T171808Z
LAST-MODIFIED:20221118T191732Z
UID:10000452-1676484000-1676491200@helenhayeshospital.org
SUMMARY:Spinal Cord Injury/Amputee Support Group
DESCRIPTION:Third Wednesday\, 6:00-8:00 pm\, Helen Hayes Hospital Auditorium \nOpen to individuals living with SCI and amputation\, their families and friends. Guest speakers and open discussions. Available via webcast. For information\, please call Peter Gagliardo at 845-786-4950.
URL:https://helenhayeshospital.org/event/spinal-cord-injury-amputee-support-group/2023-02-15/
LOCATION:NY
END:VEVENT
BEGIN:VEVENT
DTSTART;TZID=America/New_York:20230216T160000
DTEND;TZID=America/New_York:20230216T170000
DTSTAMP:20260420T055844
CREATED:20221003T165704Z
LAST-MODIFIED:20221003T171404Z
UID:10000407-1676563200-1676566800@helenhayeshospital.org
SUMMARY:Osteoporosis Support & Education Group
DESCRIPTION:Third Thursday of each month\, 4:00-5:00pm\, Helen Hayes Hospital Auditorium \nProfessionals from the New York State Osteoporosis Prevention and Education Program (NYSOPEP) Statewide Osteoporosis Resource Center present information about bone health\, including the latest medications\, nutritional guidelines\, research\, and other important topics. \nPlease call 845-786-4772 to learn more.
URL:https://helenhayeshospital.org/event/osteoporosis-support-education-group/2023-02-16/
LOCATION:NY
END:VEVENT
BEGIN:VEVENT
DTSTART;TZID=America/New_York:20230217T140000
DTEND;TZID=America/New_York:20230217T150000
DTSTAMP:20260420T055844
CREATED:20221003T170227Z
LAST-MODIFIED:20221003T171339Z
UID:10000422-1676642400-1676646000@helenhayeshospital.org
SUMMARY:Parkinson's Disease Support Group
DESCRIPTION:Third Friday of each month\, 2:00-3:00pm\, Helen Hayes Hospital Auditorium \nWhether you’ve been living with Parkinson’s disease or have just recently been diagnosed\, come and share information and learn something new. For more information\, please call 845-786-4321.
URL:https://helenhayeshospital.org/event/parkinsons-disease-support-group/2023-02-17/
LOCATION:NY
END:VEVENT
BEGIN:VEVENT
DTSTART;TZID=America/New_York:20230219T140000
DTEND;TZID=America/New_York:20230219T150000
DTSTAMP:20260420T055844
CREATED:20221003T170845Z
LAST-MODIFIED:20221003T171306Z
UID:10000693-1676815200-1676818800@helenhayeshospital.org
SUMMARY:Stroke Club
DESCRIPTION:Third Wednesday of each month\, 2:00-3:00pm\, Helen Hayes Hospital Auditorium\n\nFor survivors of stroke and their families and caregivers. For more information\, please call Alyssa Chagares at 845-786-4457. \n 
URL:https://helenhayeshospital.org/event/stroke-club/2023-02-19/
LOCATION:NY
END:VEVENT
END:VCALENDAR