BEGIN:VCALENDAR
VERSION:2.0
PRODID:-//Helen Hayes Hospital - ECPv6.15.20//NONSGML v1.0//EN
CALSCALE:GREGORIAN
METHOD:PUBLISH
X-ORIGINAL-URL:https://helenhayeshospital.org
X-WR-CALDESC:Events for Helen Hayes Hospital
REFRESH-INTERVAL;VALUE=DURATION:PT1H
X-Robots-Tag:noindex
X-PUBLISHED-TTL:PT1H
BEGIN:VTIMEZONE
TZID:America/New_York
BEGIN:DAYLIGHT
TZOFFSETFROM:-0500
TZOFFSETTO:-0400
TZNAME:EDT
DTSTART:20230312T070000
END:DAYLIGHT
BEGIN:STANDARD
TZOFFSETFROM:-0400
TZOFFSETTO:-0500
TZNAME:EST
DTSTART:20231105T060000
END:STANDARD
BEGIN:DAYLIGHT
TZOFFSETFROM:-0500
TZOFFSETTO:-0400
TZNAME:EDT
DTSTART:20240310T070000
END:DAYLIGHT
BEGIN:STANDARD
TZOFFSETFROM:-0400
TZOFFSETTO:-0500
TZNAME:EST
DTSTART:20241103T060000
END:STANDARD
BEGIN:DAYLIGHT
TZOFFSETFROM:-0500
TZOFFSETTO:-0400
TZNAME:EDT
DTSTART:20250309T070000
END:DAYLIGHT
BEGIN:STANDARD
TZOFFSETFROM:-0400
TZOFFSETTO:-0500
TZNAME:EST
DTSTART:20251102T060000
END:STANDARD
END:VTIMEZONE
BEGIN:VEVENT
DTSTART;TZID=America/New_York:20240708T183000
DTEND;TZID=America/New_York:20240708T193000
DTSTAMP:20260419T235224
CREATED:20231215T145428Z
LAST-MODIFIED:20240812T155809Z
UID:10000550-1720463400-1720467000@helenhayeshospital.org
SUMMARY:Brain Injury Family/Survivor Support Group
DESCRIPTION:Second Monday of each month\, 6:30pm\, via Zoom \nThe Brain Injury Association of New York Rockland County chapter family support group. The meeting is open to family members of and survivors of a brain injury. For information call Barry Dain at 914-420-4406 or call the Brain Injury Association\, 1-800-228-8201. http://bianys.org. \nView more information on our Support Groups\, HERE.
URL:https://helenhayeshospital.org/event/brain-injury-family-survivor-support-group-2/2024-07-08/
LOCATION:NY
END:VEVENT
BEGIN:VEVENT
DTSTART;TZID=America/New_York:20240710T090000
DTEND;TZID=America/New_York:20240710T160000
DTSTAMP:20260419T235224
CREATED:20240516T132623Z
LAST-MODIFIED:20240516T132623Z
UID:10000625-1720602000-1720627200@helenhayeshospital.org
SUMMARY:Adapted Waterskiing
DESCRIPTION:Join the Helen Hayes Hospital Adapted Sports & Recreation Program for Adapted Waterskiing on July 10th and August 7th from 9am-4pm.\n\nFor information and to register\, contact Peter Gagliardo\, Adapted Sports & Recreation Coordinator: 845-786-4950 or Peter.gagliardo@helenhayeshosp.org.\n\nThis event is FREE due to a generous grant from the Craig H. Nielsen Foundation.
URL:https://helenhayeshospital.org/event/adapted-waterskiing/
LOCATION:351 River Rd\, 351 River Rd\, Southbury\, CT\, 06488\, United States
ATTACH;FMTTYPE=image/jpeg:https://helenhayeshospital.org/wp-content/uploads/2024/05/Trudigital_Slides_waterskiing-scaled.jpg
ORGANIZER;CN="Helen Hayes Hospital Adapted Sports & Recreation":MAILTO:peter.gagliardo@helenhayeshosp.org
END:VEVENT
BEGIN:VEVENT
DTSTART;TZID=America/New_York:20240717T140000
DTEND;TZID=America/New_York:20240717T150000
DTSTAMP:20260419T235224
CREATED:20231215T145811Z
LAST-MODIFIED:20240812T153838Z
UID:10000574-1721224800-1721228400@helenhayeshospital.org
SUMMARY:Stroke Support Group
DESCRIPTION:Third Wednesday of each month\, 2:00-3:00pm\, Dietary Conference Room\n\nFor survivors of stroke and their families and caregivers. Participants will hear from experts on a variety of topics\, as well as share their day-to-day experiences living with stroke or caring for a loved one. For more information\, please call Alyssa Chagares at 845-786-4457. \nView more information on our Support Groups\, HERE.
URL:https://helenhayeshospital.org/event/stroke-support-group-2/2024-07-17/
LOCATION:Helen Hayes Hospital\, 51-55 Rte 9W\, West Haverstraw\, NY\, 10993\, United States
GEO:41.213973250018;-73.988467656688
X-APPLE-STRUCTURED-LOCATION;VALUE=URI;X-ADDRESS=Helen Hayes Hospital 51-55 Rte 9W West Haverstraw NY 10993 United States;X-APPLE-RADIUS=500;X-TITLE=51-55 Rte 9W:geo:-73.988467656688,41.213973250018
END:VEVENT
BEGIN:VEVENT
DTSTART;TZID=America/New_York:20240718T160000
DTEND;TZID=America/New_York:20240718T170000
DTSTAMP:20260419T235224
CREATED:20231215T144850Z
LAST-MODIFIED:20240112T191556Z
UID:10000539-1721318400-1721322000@helenhayeshospital.org
SUMMARY:Osteoporosis Support & Education Group
DESCRIPTION:Third Thursday of each month\, 4:00-5:00pm\, Helen Hayes Hospital Auditorium \nProfessionals from the New York State Osteoporosis Prevention and Education Program (NYSOPEP) Statewide Osteoporosis Resource Center present information about bone health\, including the latest medications\, nutritional guidelines\, research\, and other important topics. \nPlease call 845-786-4772 to learn more.
URL:https://helenhayeshospital.org/event/osteoporosis-support-education-group-4/2024-07-18/
LOCATION:Helen Hayes Hospital\, 51-55 Rte 9W\, West Haverstraw\, NY\, 10993\, United States
GEO:41.213973250018;-73.988467656688
X-APPLE-STRUCTURED-LOCATION;VALUE=URI;X-ADDRESS=Helen Hayes Hospital 51-55 Rte 9W West Haverstraw NY 10993 United States;X-APPLE-RADIUS=500;X-TITLE=51-55 Rte 9W:geo:-73.988467656688,41.213973250018
END:VEVENT
BEGIN:VEVENT
DTSTART;TZID=America/New_York:20240718T180000
DTEND;TZID=America/New_York:20240718T200000
DTSTAMP:20260419T235224
CREATED:20240702T184918Z
LAST-MODIFIED:20240702T184918Z
UID:10000637-1721325600-1721332800@helenhayeshospital.org
SUMMARY:Spinal Cord Injury/Amputee Support Group
DESCRIPTION:Third Wednesday\, 6:00-8:00 pm\, Dietary Conference Room. Please note: the July meeting will be held on the third Thursday.  \nOpen to individuals living with SCI and amputation\, as well as their families and friends. Guest speakers and open discussions. Available via webcast. For information\, please call Peter Gagliardo at 845-786-4950. \nView more information on our Support Groups\, HERE.
URL:https://helenhayeshospital.org/event/spinal-cord-injury-amputee-support-group-6/
LOCATION:Helen Hayes Hospital\, 51-55 Rte 9W\, West Haverstraw\, NY\, 10993\, United States
GEO:41.213973250018;-73.988467656688
X-APPLE-STRUCTURED-LOCATION;VALUE=URI;X-ADDRESS=Helen Hayes Hospital 51-55 Rte 9W West Haverstraw NY 10993 United States;X-APPLE-RADIUS=500;X-TITLE=51-55 Rte 9W:geo:-73.988467656688,41.213973250018
END:VEVENT
BEGIN:VEVENT
DTSTART;TZID=America/New_York:20240719T140000
DTEND;TZID=America/New_York:20240719T150000
DTSTAMP:20260419T235224
CREATED:20231215T145611Z
LAST-MODIFIED:20240812T154935Z
UID:10000562-1721397600-1721401200@helenhayeshospital.org
SUMMARY:Parkinson's Disease Support Group
DESCRIPTION:Third Friday of each month\, 2:00-3:00pm\, Auditorium \nWhether you’ve been living with PD or have just recently been diagnosed\, come and share information and learn something new. For more information\, please call 845-786-4321. \nView more information on our Support Groups\, HERE.
URL:https://helenhayeshospital.org/event/parkinsons-disease-support-group-2/2024-07-19/
LOCATION:Helen Hayes Hospital\, 51-55 Rte 9W\, West Haverstraw\, NY\, 10993\, United States
GEO:41.213973250018;-73.988467656688
X-APPLE-STRUCTURED-LOCATION;VALUE=URI;X-ADDRESS=Helen Hayes Hospital 51-55 Rte 9W West Haverstraw NY 10993 United States;X-APPLE-RADIUS=500;X-TITLE=51-55 Rte 9W:geo:-73.988467656688,41.213973250018
END:VEVENT
END:VCALENDAR