BEGIN:VCALENDAR
VERSION:2.0
PRODID:-//Helen Hayes Hospital - ECPv6.15.20//NONSGML v1.0//EN
CALSCALE:GREGORIAN
METHOD:PUBLISH
X-ORIGINAL-URL:https://helenhayeshospital.org
X-WR-CALDESC:Events for Helen Hayes Hospital
REFRESH-INTERVAL;VALUE=DURATION:PT1H
X-Robots-Tag:noindex
X-PUBLISHED-TTL:PT1H
BEGIN:VTIMEZONE
TZID:America/New_York
BEGIN:DAYLIGHT
TZOFFSETFROM:-0500
TZOFFSETTO:-0400
TZNAME:EDT
DTSTART:20220313T070000
END:DAYLIGHT
BEGIN:STANDARD
TZOFFSETFROM:-0400
TZOFFSETTO:-0500
TZNAME:EST
DTSTART:20221106T060000
END:STANDARD
BEGIN:DAYLIGHT
TZOFFSETFROM:-0500
TZOFFSETTO:-0400
TZNAME:EDT
DTSTART:20230312T070000
END:DAYLIGHT
BEGIN:STANDARD
TZOFFSETFROM:-0400
TZOFFSETTO:-0500
TZNAME:EST
DTSTART:20231105T060000
END:STANDARD
BEGIN:DAYLIGHT
TZOFFSETFROM:-0500
TZOFFSETTO:-0400
TZNAME:EDT
DTSTART:20240310T070000
END:DAYLIGHT
BEGIN:STANDARD
TZOFFSETFROM:-0400
TZOFFSETTO:-0500
TZNAME:EST
DTSTART:20241103T060000
END:STANDARD
BEGIN:DAYLIGHT
TZOFFSETFROM:-0500
TZOFFSETTO:-0400
TZNAME:EDT
DTSTART:20250309T070000
END:DAYLIGHT
BEGIN:STANDARD
TZOFFSETFROM:-0400
TZOFFSETTO:-0500
TZNAME:EST
DTSTART:20251102T060000
END:STANDARD
BEGIN:DAYLIGHT
TZOFFSETFROM:-0500
TZOFFSETTO:-0400
TZNAME:EDT
DTSTART:20260308T070000
END:DAYLIGHT
BEGIN:STANDARD
TZOFFSETFROM:-0400
TZOFFSETTO:-0500
TZNAME:EST
DTSTART:20261101T060000
END:STANDARD
END:VTIMEZONE
BEGIN:VEVENT
DTSTART;TZID=America/New_York:20250516T140000
DTEND;TZID=America/New_York:20250516T150000
DTSTAMP:20260423T211129
CREATED:20250107T135600Z
LAST-MODIFIED:20250107T135600Z
UID:10000645-1747404000-1747407600@helenhayeshospital.org
SUMMARY:Parkinson's Disease Support Group
DESCRIPTION:Third Friday of each month\, 2:00-3:00pm\, Auditorium \nWhether you’ve been living with PD or have just recently been diagnosed\, come and share information and learn something new. For more information\, please call 845-786-4321. \nView more information on our Support Groups\, HERE. \n\n                    \n                    Print This Page
URL:https://helenhayeshospital.org/event/parkinsons-disease-support-group-3/2025-05-16/
LOCATION:Helen Hayes Hospital\, 51-55 Rte 9W\, West Haverstraw\, NY\, 10993\, United States
CATEGORIES:Support Group
GEO:41.213973250018;-73.988467656688
X-APPLE-STRUCTURED-LOCATION;VALUE=URI;X-ADDRESS=Helen Hayes Hospital 51-55 Rte 9W West Haverstraw NY 10993 United States;X-APPLE-RADIUS=500;X-TITLE=51-55 Rte 9W:geo:-73.988467656688,41.213973250018
END:VEVENT
BEGIN:VEVENT
DTSTART;TZID=America/New_York:20250507T090000
DTEND;TZID=America/New_York:20250507T140000
DTSTAMP:20260423T211129
CREATED:20250425T190520Z
LAST-MODIFIED:20250425T190520Z
UID:10001089-1746608400-1746626400@helenhayeshospital.org
SUMMARY:One-on-One CarFit Consultation
DESCRIPTION:One-on-One Carfit Consultation\nOpen to the public and all older drivers\nBy appointment only\n\nWednesday\, May 7th – 9:00am-2:00pm\nPARKING LOT G (Near Golfability) at Helen Hayes Hospital\n\nDo you have arthritis in your neck or hands?\nDo you have a hard time getting in and out of a car?\nDo you have osteoporosis?\nDo you know how far you should be from the steering wheel?\nCome find out!\n\nA 20 minute\, one-on-one consultation with a certified CarFit technician:\n\nMirror adjustments to reduce blind spots\nFoot positioning on gas and brake pedals\nSeat positioning/line of sight\nHead restraints adjustment\nAdaptive device recommendations\n\nFree of charge! By appointment only. Please call\, 845-786-4155. \n\n                    \n                    Print This Page
URL:https://helenhayeshospital.org/event/one-on-one-carfit-consultation/
LOCATION:Helen Hayes Hospital\, 51-55 Rte 9W\, West Haverstraw\, NY\, 10993\, United States
GEO:41.213973250018;-73.988467656688
X-APPLE-STRUCTURED-LOCATION;VALUE=URI;X-ADDRESS=Helen Hayes Hospital 51-55 Rte 9W West Haverstraw NY 10993 United States;X-APPLE-RADIUS=500;X-TITLE=51-55 Rte 9W:geo:-73.988467656688,41.213973250018
END:VEVENT
BEGIN:VEVENT
DTSTART;TZID=America/New_York:20250424T140000
DTEND;TZID=America/New_York:20250424T150000
DTSTAMP:20260423T211129
CREATED:20250410T123729Z
LAST-MODIFIED:20250410T124030Z
UID:10000656-1745503200-1745506800@helenhayeshospital.org
SUMMARY:Stroke Support Group
DESCRIPTION:Third Wednesday of each month\, 2:00-3:00pm\, Dietary Conference Room\n\nFor survivors of stroke and their families and caregivers. Participants will hear from experts on a variety of topics\, as well as share their day-to-day experiences living with stroke or caring for a loved one. For more information\, please call Alyssa Chagares at 845-786-4457. \nView more information on our Support Groups\, HERE. \n\n                    \n                    Print This Page
URL:https://helenhayeshospital.org/event/stroke-support-group-3-2/
LOCATION:Helen Hayes Hospital\, 51-55 Rte 9W\, West Haverstraw\, NY\, 10993\, United States
GEO:41.213973250018;-73.988467656688
X-APPLE-STRUCTURED-LOCATION;VALUE=URI;X-ADDRESS=Helen Hayes Hospital 51-55 Rte 9W West Haverstraw NY 10993 United States;X-APPLE-RADIUS=500;X-TITLE=51-55 Rte 9W:geo:-73.988467656688,41.213973250018
END:VEVENT
BEGIN:VEVENT
DTSTART;TZID=America/New_York:20250423T140000
DTEND;TZID=America/New_York:20250423T150000
DTSTAMP:20260423T211129
CREATED:20250410T124258Z
LAST-MODIFIED:20250410T124311Z
UID:10000956-1745416800-1745420400@helenhayeshospital.org
SUMMARY:Stroke Support Group
DESCRIPTION:Third Wednesday of each month\, 2:00-3:00pm\, Dietary Conference Room *Please note that the support group for April 2025 is on the 4th Wednesday of the month*\n\nFor survivors of stroke and their families and caregivers. Participants will hear from experts on a variety of topics\, as well as share their day-to-day experiences living with stroke or caring for a loved one. For more information\, please call Alyssa Chagares at 845-786-4457. \nView more information on our Support Groups\, HERE. \n\n                    \n                    Print This Page
URL:https://helenhayeshospital.org/event/stroke-support-group-4/
LOCATION:Helen Hayes Hospital\, 51-55 Rte 9W\, West Haverstraw\, NY\, 10993\, United States
GEO:41.213973250018;-73.988467656688
X-APPLE-STRUCTURED-LOCATION;VALUE=URI;X-ADDRESS=Helen Hayes Hospital 51-55 Rte 9W West Haverstraw NY 10993 United States;X-APPLE-RADIUS=500;X-TITLE=51-55 Rte 9W:geo:-73.988467656688,41.213973250018
END:VEVENT
BEGIN:VEVENT
DTSTART;TZID=America/New_York:20250409T143000
DTEND;TZID=America/New_York:20250409T163000
DTSTAMP:20260423T211129
CREATED:20250402T134745Z
LAST-MODIFIED:20250402T134745Z
UID:10000955-1744209000-1744216200@helenhayeshospital.org
SUMMARY:Older Driver Safety Event - for older drivers and caregivers
DESCRIPTION:Older Driver Safety Event_2025\n\n                    \n                    Print This Page
URL:https://helenhayeshospital.org/event/older-driver-safety-event-for-older-drivers-and-caregivers/
LOCATION:Helen Hayes Hospital\, 51-55 Rte 9W\, West Haverstraw\, NY\, 10993\, United States
GEO:41.213973250018;-73.988467656688
X-APPLE-STRUCTURED-LOCATION;VALUE=URI;X-ADDRESS=Helen Hayes Hospital 51-55 Rte 9W West Haverstraw NY 10993 United States;X-APPLE-RADIUS=500;X-TITLE=51-55 Rte 9W:geo:-73.988467656688,41.213973250018
END:VEVENT
BEGIN:VEVENT
DTSTART;TZID=America/New_York:20241220T140000
DTEND;TZID=America/New_York:20241220T150000
DTSTAMP:20260423T211129
CREATED:20231215T145611Z
LAST-MODIFIED:20240812T154935Z
UID:10000567-1734703200-1734706800@helenhayeshospital.org
SUMMARY:Parkinson's Disease Support Group
DESCRIPTION:Third Friday of each month\, 2:00-3:00pm\, Auditorium \nWhether you’ve been living with PD or have just recently been diagnosed\, come and share information and learn something new. For more information\, please call 845-786-4321. \nView more information on our Support Groups\, HERE. \n\n                    \n                    Print This Page
URL:https://helenhayeshospital.org/event/parkinsons-disease-support-group-2/2024-12-20/
LOCATION:Helen Hayes Hospital\, 51-55 Rte 9W\, West Haverstraw\, NY\, 10993\, United States
GEO:41.213973250018;-73.988467656688
X-APPLE-STRUCTURED-LOCATION;VALUE=URI;X-ADDRESS=Helen Hayes Hospital 51-55 Rte 9W West Haverstraw NY 10993 United States;X-APPLE-RADIUS=500;X-TITLE=51-55 Rte 9W:geo:-73.988467656688,41.213973250018
END:VEVENT
BEGIN:VEVENT
DTSTART;TZID=America/New_York:20241218T180000
DTEND;TZID=America/New_York:20241218T200000
DTSTAMP:20260423T211129
CREATED:20240702T184252Z
LAST-MODIFIED:20241121T172617Z
UID:10000636-1734544800-1734552000@helenhayeshospital.org
SUMMARY:Spinal Cord Injury/Amputee Support Group
DESCRIPTION:Third Wednesday\, 6:00-8:00 pm\, Dietary Conference Room. Please note: the July meeting will be held on the third Thursday. The August meeting will be held on the second Thursday.  \nOpen to individuals living with SCI and amputation\, as well as their families and friends. Guest speakers and open discussions. Available via webcast. For information\, please call Peter Gagliardo at 845-786-4950. \nView more information on our Support Groups\, HERE. \n\n                    \n                    Print This Page
URL:https://helenhayeshospital.org/event/spinal-cord-injury-amputee-support-group-5-copy-2/2024-12-18/
LOCATION:Helen Hayes Hospital\, 51-55 Rte 9W\, West Haverstraw\, NY\, 10993\, United States
GEO:41.213973250018;-73.988467656688
X-APPLE-STRUCTURED-LOCATION;VALUE=URI;X-ADDRESS=Helen Hayes Hospital 51-55 Rte 9W West Haverstraw NY 10993 United States;X-APPLE-RADIUS=500;X-TITLE=51-55 Rte 9W:geo:-73.988467656688,41.213973250018
END:VEVENT
BEGIN:VEVENT
DTSTART;TZID=America/New_York:20241218T140000
DTEND;TZID=America/New_York:20241218T150000
DTSTAMP:20260423T211129
CREATED:20231215T145811Z
LAST-MODIFIED:20240812T153838Z
UID:10000579-1734530400-1734534000@helenhayeshospital.org
SUMMARY:Stroke Support Group
DESCRIPTION:Third Wednesday of each month\, 2:00-3:00pm\, Dietary Conference Room\n\nFor survivors of stroke and their families and caregivers. Participants will hear from experts on a variety of topics\, as well as share their day-to-day experiences living with stroke or caring for a loved one. For more information\, please call Alyssa Chagares at 845-786-4457. \nView more information on our Support Groups\, HERE. \n\n                    \n                    Print This Page
URL:https://helenhayeshospital.org/event/stroke-support-group-2/2024-12-18/
LOCATION:Helen Hayes Hospital\, 51-55 Rte 9W\, West Haverstraw\, NY\, 10993\, United States
GEO:41.213973250018;-73.988467656688
X-APPLE-STRUCTURED-LOCATION;VALUE=URI;X-ADDRESS=Helen Hayes Hospital 51-55 Rte 9W West Haverstraw NY 10993 United States;X-APPLE-RADIUS=500;X-TITLE=51-55 Rte 9W:geo:-73.988467656688,41.213973250018
END:VEVENT
BEGIN:VEVENT
DTSTART;TZID=America/New_York:20241204T143000
DTEND;TZID=America/New_York:20241204T163000
DTSTAMP:20260423T211129
CREATED:20241127T214700Z
LAST-MODIFIED:20241127T214754Z
UID:10000640-1733322600-1733329800@helenhayeshospital.org
SUMMARY:Older Driver Safety Event - For Drivers & Caregivers
DESCRIPTION:Presenter: Lynn Matthes\, OTR/L/CDRS\, Helen Hayes Hospital Driver Evaluator\n\nSchedule:\n\n2:30pm-3:30pm: Presentation for older drivers covering the following topics:\n\nAnticipating driving changes with getting older and what can be done about it\nDefensive driving recommendations\nSelf-assessment resources and warning signs\nFurther evaluation from physician and occupational therapist\nHow to stay engaged with and without a car\n\n3:30pm-4:30pm: Presentation for caregivers covering the same topics\, plus:\n\nHow to talk to older drivers about driving when you are concerned\n\n\nFor additional information or to RSVP\, please call 845-786-4155 or email info@helenhayeshospital.org.\n\n                    \n                    Print This Page
URL:https://helenhayeshospital.org/event/older-driver-safety-event-for-drivers-caregivers/
LOCATION:Helen Hayes Hospital\, 51-55 Rte 9W\, West Haverstraw\, NY\, 10993\, United States
ATTACH;FMTTYPE=image/jpeg:https://helenhayeshospital.org/wp-content/uploads/2024/11/Older-Driver-Safety-Event_2024-scaled.jpg
GEO:41.213973250018;-73.988467656688
X-APPLE-STRUCTURED-LOCATION;VALUE=URI;X-ADDRESS=Helen Hayes Hospital 51-55 Rte 9W West Haverstraw NY 10993 United States;X-APPLE-RADIUS=500;X-TITLE=51-55 Rte 9W:geo:-73.988467656688,41.213973250018
END:VEVENT
BEGIN:VEVENT
DTSTART;TZID=America/New_York:20241121T160000
DTEND;TZID=America/New_York:20241121T170000
DTSTAMP:20260423T211129
CREATED:20231215T144850Z
LAST-MODIFIED:20240112T191556Z
UID:10000543-1732204800-1732208400@helenhayeshospital.org
SUMMARY:Osteoporosis Support & Education Group
DESCRIPTION:Third Thursday of each month\, 4:00-5:00pm\, Helen Hayes Hospital Auditorium \nProfessionals from the New York State Osteoporosis Prevention and Education Program (NYSOPEP) Statewide Osteoporosis Resource Center present information about bone health\, including the latest medications\, nutritional guidelines\, research\, and other important topics. \nPlease call 845-786-4772 to learn more. \n\n                    \n                    Print This Page
URL:https://helenhayeshospital.org/event/osteoporosis-support-education-group-4/2024-11-21/
LOCATION:Helen Hayes Hospital\, 51-55 Rte 9W\, West Haverstraw\, NY\, 10993\, United States
GEO:41.213973250018;-73.988467656688
X-APPLE-STRUCTURED-LOCATION;VALUE=URI;X-ADDRESS=Helen Hayes Hospital 51-55 Rte 9W West Haverstraw NY 10993 United States;X-APPLE-RADIUS=500;X-TITLE=51-55 Rte 9W:geo:-73.988467656688,41.213973250018
END:VEVENT
BEGIN:VEVENT
DTSTART;TZID=America/New_York:20240917T133000
DTEND;TZID=America/New_York:20240917T150000
DTSTAMP:20260423T211129
CREATED:20240912T172449Z
LAST-MODIFIED:20240912T172711Z
UID:10000639-1726579800-1726585200@helenhayeshospital.org
SUMMARY:124th Honors Assembly\, Celebrating Patient Achievements
DESCRIPTION:The 124th annual Helen Hayes Hospital Honors Assembly will celebrate the extraordinary recoveries and achievements of the hospital’s patients over the past year. This year’s ceremony will honor seven patients who have made outstanding accomplishments in their rehabilitation programs\, inspiring others along the way.\n\nThe Honors Assembly began in 1900 as a school graduation ceremony for children at the then pediatric rehabilitation facility. Star of stage and screen Helen Hayes McArthur herself presented the diplomas\, and later awards\, during her long history advocating for the hospital. Today\, the Honors Assembly serves as a celebration of the hospital’s entire patient community and recognizes patients’ tremendous resolve and selfless support of others facing similar odds.\n\nA replay of the Honors Assembly will be available on the hospital’s Facebook and Youtube channels:\n\nhttp://facebook.com/helenhayeshospital\nhttp://youtube.com/helenhayeshospital\n\n                    \n                    Print This Page
URL:https://helenhayeshospital.org/event/124th-honors-assembly-celebrating-patient-achievements/
LOCATION:Helen Hayes Hospital\, 51-55 Rte 9W\, West Haverstraw\, NY\, 10993\, United States
ATTACH;FMTTYPE=application/pdf:https://helenhayeshospital.org/wp-content/uploads/2024/09/Honor_Assembly_TruDigital_2024.pdf
GEO:41.213973250018;-73.988467656688
X-APPLE-STRUCTURED-LOCATION;VALUE=URI;X-ADDRESS=Helen Hayes Hospital 51-55 Rte 9W West Haverstraw NY 10993 United States;X-APPLE-RADIUS=500;X-TITLE=51-55 Rte 9W:geo:-73.988467656688,41.213973250018
END:VEVENT
BEGIN:VEVENT
DTSTART;TZID=America/New_York:20240822T180000
DTEND;TZID=America/New_York:20240822T200000
DTSTAMP:20260423T211129
CREATED:20240702T185041Z
LAST-MODIFIED:20240717T160711Z
UID:10000638-1724349600-1724356800@helenhayeshospital.org
SUMMARY:Spinal Cord Injury/Amputee Support Group
DESCRIPTION:Third Wednesday\, 6:00-8:00 pm\, Dietary Conference Room. Please note: the August meeting will be held on the 2nd Wednesday.  \nOpen to individuals living with SCI and amputation\, as well as their families and friends. Guest speakers and open discussions. Available via webcast. For information\, please call Peter Gagliardo at 845-786-4950. \nView more information on our Support Groups\, HERE. \n\n                    \n                    Print This Page
URL:https://helenhayeshospital.org/event/spinal-cord-injury-amputee-support-group-7/
LOCATION:Helen Hayes Hospital\, 51-55 Rte 9W\, West Haverstraw\, NY\, 10993\, United States
GEO:41.213973250018;-73.988467656688
X-APPLE-STRUCTURED-LOCATION;VALUE=URI;X-ADDRESS=Helen Hayes Hospital 51-55 Rte 9W West Haverstraw NY 10993 United States;X-APPLE-RADIUS=500;X-TITLE=51-55 Rte 9W:geo:-73.988467656688,41.213973250018
END:VEVENT
BEGIN:VEVENT
DTSTART;TZID=America/New_York:20240718T180000
DTEND;TZID=America/New_York:20240718T200000
DTSTAMP:20260423T211129
CREATED:20240702T184918Z
LAST-MODIFIED:20240702T184918Z
UID:10000637-1721325600-1721332800@helenhayeshospital.org
SUMMARY:Spinal Cord Injury/Amputee Support Group
DESCRIPTION:Third Wednesday\, 6:00-8:00 pm\, Dietary Conference Room. Please note: the July meeting will be held on the third Thursday.  \nOpen to individuals living with SCI and amputation\, as well as their families and friends. Guest speakers and open discussions. Available via webcast. For information\, please call Peter Gagliardo at 845-786-4950. \nView more information on our Support Groups\, HERE. \n\n                    \n                    Print This Page
URL:https://helenhayeshospital.org/event/spinal-cord-injury-amputee-support-group-6/
LOCATION:Helen Hayes Hospital\, 51-55 Rte 9W\, West Haverstraw\, NY\, 10993\, United States
GEO:41.213973250018;-73.988467656688
X-APPLE-STRUCTURED-LOCATION;VALUE=URI;X-ADDRESS=Helen Hayes Hospital 51-55 Rte 9W West Haverstraw NY 10993 United States;X-APPLE-RADIUS=500;X-TITLE=51-55 Rte 9W:geo:-73.988467656688,41.213973250018
END:VEVENT
BEGIN:VEVENT
DTSTART;TZID=America/New_York:20240131T180000
DTEND;TZID=America/New_York:20240131T200000
DTSTAMP:20260423T211129
CREATED:20231215T150051Z
LAST-MODIFIED:20240111T204300Z
UID:10000581-1706724000-1706731200@helenhayeshospital.org
SUMMARY:Spinal Cord Injury/Amputee Support Group
DESCRIPTION:Third Wednesday\, 6:00-8:00 pm\, Dietary Conference Room \nOpen to individuals living with SCI and amputation\, as well as their families and friends. Guest speakers and open discussions. Available via webcast. For information\, please call Peter Gagliardo at 845-786-4950. \nView more information on our Support Groups\, HERE. \n\n                    \n                    Print This Page
URL:https://helenhayeshospital.org/event/spinal-cord-injury-amputee-support-group-5/
LOCATION:Helen Hayes Hospital\, 51-55 Rte 9W\, West Haverstraw\, NY\, 10993\, United States
GEO:41.213973250018;-73.988467656688
X-APPLE-STRUCTURED-LOCATION;VALUE=URI;X-ADDRESS=Helen Hayes Hospital 51-55 Rte 9W West Haverstraw NY 10993 United States;X-APPLE-RADIUS=500;X-TITLE=51-55 Rte 9W:geo:-73.988467656688,41.213973250018
END:VEVENT
BEGIN:VEVENT
DTSTART;TZID=America/New_York:20240125T160000
DTEND;TZID=America/New_York:20240125T170000
DTSTAMP:20260423T211129
CREATED:20240112T191813Z
LAST-MODIFIED:20240112T191827Z
UID:10000614-1706198400-1706202000@helenhayeshospital.org
SUMMARY:Osteoporosis Support & Education Group
DESCRIPTION:Third Thursday of each month\, 4:00-5:00pm\, Helen Hayes Hospital Auditorium *Please note the date change for January* \nProfessionals from the New York State Osteoporosis Prevention and Education Program (NYSOPEP) Statewide Osteoporosis Resource Center present information about bone health\, including the latest medications\, nutritional guidelines\, research\, and other important topics. \nPlease call 845-786-4772 to learn more. \n\n                    \n                    Print This Page
URL:https://helenhayeshospital.org/event/osteoporosis-support-education-group-5/
LOCATION:Helen Hayes Hospital\, 51-55 Rte 9W\, West Haverstraw\, NY\, 10993\, United States
GEO:41.213973250018;-73.988467656688
X-APPLE-STRUCTURED-LOCATION;VALUE=URI;X-ADDRESS=Helen Hayes Hospital 51-55 Rte 9W West Haverstraw NY 10993 United States;X-APPLE-RADIUS=500;X-TITLE=51-55 Rte 9W:geo:-73.988467656688,41.213973250018
END:VEVENT
BEGIN:VEVENT
DTSTART;TZID=America/New_York:20231025T180000
DTEND;TZID=America/New_York:20231025T200000
DTSTAMP:20260423T211129
CREATED:20231006T171240Z
LAST-MODIFIED:20231006T171240Z
UID:10000529-1698256800-1698264000@helenhayeshospital.org
SUMMARY:Spinal Cord Injury/Amputee Support Group
DESCRIPTION:Third Wednesday\, 6:00-8:00 pm\, Helen Hayes Hospital Dietary Conference Room **Please note date changed to fourth Wednesday for October** \nOpen to individuals living with SCI and amputation\, their families and friends. Guest speakers and open discussions. Available via webcast. For information\, please call Peter Gagliardo at 845-786-4950. \n\n                    \n                    Print This Page
URL:https://helenhayeshospital.org/event/spinal-cord-injury-amputee-support-group-4/
LOCATION:Helen Hayes Hospital\, 51-55 Rte 9W\, West Haverstraw\, NY\, 10993\, United States
GEO:41.213973250018;-73.988467656688
X-APPLE-STRUCTURED-LOCATION;VALUE=URI;X-ADDRESS=Helen Hayes Hospital 51-55 Rte 9W West Haverstraw NY 10993 United States;X-APPLE-RADIUS=500;X-TITLE=51-55 Rte 9W:geo:-73.988467656688,41.213973250018
END:VEVENT
BEGIN:VEVENT
DTSTART;TZID=America/New_York:20231019T100000
DTEND;TZID=America/New_York:20231019T130000
DTSTAMP:20260423T211129
CREATED:20231011T154633Z
LAST-MODIFIED:20231011T154633Z
UID:10000530-1697709600-1697720400@helenhayeshospital.org
SUMMARY:Helen Hayes Hospital Career Fair
DESCRIPTION:Print This Page
URL:https://helenhayeshospital.org/event/helen-hayes-hospital-career-fair/
LOCATION:Helen Hayes Hospital\, 51-55 Rte 9W\, West Haverstraw\, NY\, 10993\, United States
GEO:41.213973250018;-73.988467656688
X-APPLE-STRUCTURED-LOCATION;VALUE=URI;X-ADDRESS=Helen Hayes Hospital 51-55 Rte 9W West Haverstraw NY 10993 United States;X-APPLE-RADIUS=500;X-TITLE=51-55 Rte 9W:geo:-73.988467656688,41.213973250018
END:VEVENT
BEGIN:VEVENT
DTSTART;TZID=America/New_York:20230919T133000
DTEND;TZID=America/New_York:20230919T143000
DTSTAMP:20260423T211129
CREATED:20230609T173600Z
LAST-MODIFIED:20230609T173953Z
UID:10000527-1695130200-1695133800@helenhayeshospital.org
SUMMARY:123rd Honors Assembly\, Celebrating Patient Achievements
DESCRIPTION:The 123rd annual Helen Hayes Hospital Honors Assembly will celebrate the extraordinary recoveries and achievements of the hospital’s patients over the past year. This year’s ceremony will honor patients who have made outstanding accomplishments in their rehabilitation programs\, inspiring others along the way.\n\nThe Honors Assembly began in 1900 as a school graduation ceremony for children at the then pediatric rehabilitation facility. Star of stage and screen Helen Hayes McArthur herself presented the diplomas\, and later awards\, during her long history advocating for the hospital. Today\, the Honors Assembly serves as a celebration of the hospital’s entire patient community and recognizes patients’ tremendous resolve and selfless support of others facing similar odds.\n\nA replay of the Honors Assembly will be available on the hospital’s Facebook and Youtube channels:\n\nhttp://facebook.com/helenhayeshospital\nhttp://youtube.com/helenhayeshospital\n\n                    \n                    Print This Page
URL:https://helenhayeshospital.org/event/122nd-honors-assembly-celebrates-patient-achievements-copy/
LOCATION:Helen Hayes Hospital\, 51-55 Rte 9W\, West Haverstraw\, NY\, 10993\, United States
GEO:41.213973250018;-73.988467656688
X-APPLE-STRUCTURED-LOCATION;VALUE=URI;X-ADDRESS=Helen Hayes Hospital 51-55 Rte 9W West Haverstraw NY 10993 United States;X-APPLE-RADIUS=500;X-TITLE=51-55 Rte 9W:geo:-73.988467656688,41.213973250018
END:VEVENT
END:VCALENDAR