BEGIN:VCALENDAR
VERSION:2.0
PRODID:-//Helen Hayes Hospital - ECPv6.15.20//NONSGML v1.0//EN
CALSCALE:GREGORIAN
METHOD:PUBLISH
X-WR-CALNAME:Helen Hayes Hospital
X-ORIGINAL-URL:https://helenhayeshospital.org
X-WR-CALDESC:Events for Helen Hayes Hospital
REFRESH-INTERVAL;VALUE=DURATION:PT1H
X-Robots-Tag:noindex
X-PUBLISHED-TTL:PT1H
BEGIN:VTIMEZONE
TZID:America/New_York
BEGIN:DAYLIGHT
TZOFFSETFROM:-0500
TZOFFSETTO:-0400
TZNAME:EDT
DTSTART:20220313T070000
END:DAYLIGHT
BEGIN:STANDARD
TZOFFSETFROM:-0400
TZOFFSETTO:-0500
TZNAME:EST
DTSTART:20221106T060000
END:STANDARD
BEGIN:DAYLIGHT
TZOFFSETFROM:-0500
TZOFFSETTO:-0400
TZNAME:EDT
DTSTART:20230312T070000
END:DAYLIGHT
BEGIN:STANDARD
TZOFFSETFROM:-0400
TZOFFSETTO:-0500
TZNAME:EST
DTSTART:20231105T060000
END:STANDARD
BEGIN:DAYLIGHT
TZOFFSETFROM:-0500
TZOFFSETTO:-0400
TZNAME:EDT
DTSTART:20240310T070000
END:DAYLIGHT
BEGIN:STANDARD
TZOFFSETFROM:-0400
TZOFFSETTO:-0500
TZNAME:EST
DTSTART:20241103T060000
END:STANDARD
BEGIN:DAYLIGHT
TZOFFSETFROM:-0500
TZOFFSETTO:-0400
TZNAME:EDT
DTSTART:20250309T070000
END:DAYLIGHT
BEGIN:STANDARD
TZOFFSETFROM:-0400
TZOFFSETTO:-0500
TZNAME:EST
DTSTART:20251102T060000
END:STANDARD
END:VTIMEZONE
BEGIN:VEVENT
DTSTART;TZID=America/New_York:20240718T180000
DTEND;TZID=America/New_York:20240718T200000
DTSTAMP:20260423T221742
CREATED:20240702T184918Z
LAST-MODIFIED:20240702T184918Z
UID:10000637-1721325600-1721332800@helenhayeshospital.org
SUMMARY:Spinal Cord Injury/Amputee Support Group
DESCRIPTION:Third Wednesday\, 6:00-8:00 pm\, Dietary Conference Room. Please note: the July meeting will be held on the third Thursday.  \nOpen to individuals living with SCI and amputation\, as well as their families and friends. Guest speakers and open discussions. Available via webcast. For information\, please call Peter Gagliardo at 845-786-4950. \nView more information on our Support Groups\, HERE. \n\n                    \n                    Print This Page
URL:https://helenhayeshospital.org/event/spinal-cord-injury-amputee-support-group-6/
LOCATION:Helen Hayes Hospital\, 51-55 Rte 9W\, West Haverstraw\, NY\, 10993\, United States
GEO:41.213973250018;-73.988467656688
X-APPLE-STRUCTURED-LOCATION;VALUE=URI;X-ADDRESS=Helen Hayes Hospital 51-55 Rte 9W West Haverstraw NY 10993 United States;X-APPLE-RADIUS=500;X-TITLE=51-55 Rte 9W:geo:-73.988467656688,41.213973250018
END:VEVENT
BEGIN:VEVENT
DTSTART;TZID=America/New_York:20240131T180000
DTEND;TZID=America/New_York:20240131T200000
DTSTAMP:20260423T221742
CREATED:20231215T150051Z
LAST-MODIFIED:20240111T204300Z
UID:10000581-1706724000-1706731200@helenhayeshospital.org
SUMMARY:Spinal Cord Injury/Amputee Support Group
DESCRIPTION:Third Wednesday\, 6:00-8:00 pm\, Dietary Conference Room \nOpen to individuals living with SCI and amputation\, as well as their families and friends. Guest speakers and open discussions. Available via webcast. For information\, please call Peter Gagliardo at 845-786-4950. \nView more information on our Support Groups\, HERE. \n\n                    \n                    Print This Page
URL:https://helenhayeshospital.org/event/spinal-cord-injury-amputee-support-group-5/
LOCATION:Helen Hayes Hospital\, 51-55 Rte 9W\, West Haverstraw\, NY\, 10993\, United States
GEO:41.213973250018;-73.988467656688
X-APPLE-STRUCTURED-LOCATION;VALUE=URI;X-ADDRESS=Helen Hayes Hospital 51-55 Rte 9W West Haverstraw NY 10993 United States;X-APPLE-RADIUS=500;X-TITLE=51-55 Rte 9W:geo:-73.988467656688,41.213973250018
END:VEVENT
BEGIN:VEVENT
DTSTART;TZID=America/New_York:20240125T160000
DTEND;TZID=America/New_York:20240125T170000
DTSTAMP:20260423T221742
CREATED:20240112T191813Z
LAST-MODIFIED:20240112T191827Z
UID:10000614-1706198400-1706202000@helenhayeshospital.org
SUMMARY:Osteoporosis Support & Education Group
DESCRIPTION:Third Thursday of each month\, 4:00-5:00pm\, Helen Hayes Hospital Auditorium *Please note the date change for January* \nProfessionals from the New York State Osteoporosis Prevention and Education Program (NYSOPEP) Statewide Osteoporosis Resource Center present information about bone health\, including the latest medications\, nutritional guidelines\, research\, and other important topics. \nPlease call 845-786-4772 to learn more. \n\n                    \n                    Print This Page
URL:https://helenhayeshospital.org/event/osteoporosis-support-education-group-5/
LOCATION:Helen Hayes Hospital\, 51-55 Rte 9W\, West Haverstraw\, NY\, 10993\, United States
GEO:41.213973250018;-73.988467656688
X-APPLE-STRUCTURED-LOCATION;VALUE=URI;X-ADDRESS=Helen Hayes Hospital 51-55 Rte 9W West Haverstraw NY 10993 United States;X-APPLE-RADIUS=500;X-TITLE=51-55 Rte 9W:geo:-73.988467656688,41.213973250018
END:VEVENT
BEGIN:VEVENT
DTSTART;TZID=America/New_York:20231025T180000
DTEND;TZID=America/New_York:20231025T200000
DTSTAMP:20260423T221742
CREATED:20231006T171240Z
LAST-MODIFIED:20231006T171240Z
UID:10000529-1698256800-1698264000@helenhayeshospital.org
SUMMARY:Spinal Cord Injury/Amputee Support Group
DESCRIPTION:Third Wednesday\, 6:00-8:00 pm\, Helen Hayes Hospital Dietary Conference Room **Please note date changed to fourth Wednesday for October** \nOpen to individuals living with SCI and amputation\, their families and friends. Guest speakers and open discussions. Available via webcast. For information\, please call Peter Gagliardo at 845-786-4950. \n\n                    \n                    Print This Page
URL:https://helenhayeshospital.org/event/spinal-cord-injury-amputee-support-group-4/
LOCATION:Helen Hayes Hospital\, 51-55 Rte 9W\, West Haverstraw\, NY\, 10993\, United States
GEO:41.213973250018;-73.988467656688
X-APPLE-STRUCTURED-LOCATION;VALUE=URI;X-ADDRESS=Helen Hayes Hospital 51-55 Rte 9W West Haverstraw NY 10993 United States;X-APPLE-RADIUS=500;X-TITLE=51-55 Rte 9W:geo:-73.988467656688,41.213973250018
END:VEVENT
BEGIN:VEVENT
DTSTART;TZID=America/New_York:20231019T100000
DTEND;TZID=America/New_York:20231019T130000
DTSTAMP:20260423T221742
CREATED:20231011T154633Z
LAST-MODIFIED:20231011T154633Z
UID:10000530-1697709600-1697720400@helenhayeshospital.org
SUMMARY:Helen Hayes Hospital Career Fair
DESCRIPTION:Print This Page
URL:https://helenhayeshospital.org/event/helen-hayes-hospital-career-fair/
LOCATION:Helen Hayes Hospital\, 51-55 Rte 9W\, West Haverstraw\, NY\, 10993\, United States
GEO:41.213973250018;-73.988467656688
X-APPLE-STRUCTURED-LOCATION;VALUE=URI;X-ADDRESS=Helen Hayes Hospital 51-55 Rte 9W West Haverstraw NY 10993 United States;X-APPLE-RADIUS=500;X-TITLE=51-55 Rte 9W:geo:-73.988467656688,41.213973250018
END:VEVENT
BEGIN:VEVENT
DTSTART;TZID=America/New_York:20230919T133000
DTEND;TZID=America/New_York:20230919T143000
DTSTAMP:20260423T221742
CREATED:20230609T173600Z
LAST-MODIFIED:20230609T173953Z
UID:10000527-1695130200-1695133800@helenhayeshospital.org
SUMMARY:123rd Honors Assembly\, Celebrating Patient Achievements
DESCRIPTION:The 123rd annual Helen Hayes Hospital Honors Assembly will celebrate the extraordinary recoveries and achievements of the hospital’s patients over the past year. This year’s ceremony will honor patients who have made outstanding accomplishments in their rehabilitation programs\, inspiring others along the way.\n\nThe Honors Assembly began in 1900 as a school graduation ceremony for children at the then pediatric rehabilitation facility. Star of stage and screen Helen Hayes McArthur herself presented the diplomas\, and later awards\, during her long history advocating for the hospital. Today\, the Honors Assembly serves as a celebration of the hospital’s entire patient community and recognizes patients’ tremendous resolve and selfless support of others facing similar odds.\n\nA replay of the Honors Assembly will be available on the hospital’s Facebook and Youtube channels:\n\nhttp://facebook.com/helenhayeshospital\nhttp://youtube.com/helenhayeshospital\n\n                    \n                    Print This Page
URL:https://helenhayeshospital.org/event/122nd-honors-assembly-celebrates-patient-achievements-copy/
LOCATION:Helen Hayes Hospital\, 51-55 Rte 9W\, West Haverstraw\, NY\, 10993\, United States
GEO:41.213973250018;-73.988467656688
X-APPLE-STRUCTURED-LOCATION;VALUE=URI;X-ADDRESS=Helen Hayes Hospital 51-55 Rte 9W West Haverstraw NY 10993 United States;X-APPLE-RADIUS=500;X-TITLE=51-55 Rte 9W:geo:-73.988467656688,41.213973250018
END:VEVENT
END:VCALENDAR